BEGIN:VCALENDAR
VERSION:2.0
PRODID:-//Tukios.com/
BEGIN:VEVENT
UID:bf1158d4-a248-4394-a684-91e1b0bc303d@www.saundersdwyer.com
DTSTAMP:20260425T001255Z
DTSTART:20260501T170000Z
DTEND:20260501T180000Z
SUMMARY:Graveside Service
DESCRIPTION:
URL:https://www.saundersdwyer.com/obituaries/charles-conley-jr
LOCATION: 1213 Kempton Street  New Bedford MA 02740
GEO:41.6374531;-70.9578239
END:VEVENT
END:VCALENDAR