BEGIN:VCALENDAR
VERSION:2.0
PRODID:-//Tukios.com/
BEGIN:VEVENT
UID:3dd3d7a8-bf96-405a-afcb-1dfd3c69a80c@www.saundersdwyer.com
DTSTAMP:20260425T000725Z
DTSTART:20260517T160000Z
DTEND:20260517T170000Z
SUMMARY:Funeral Service
DESCRIPTION:
URL:https://www.saundersdwyer.com/obituaries/eugenia-heys
LOCATION: 50 County Road  Mattapoisett MA 02739
GEO:41.6638228;-70.8094937
END:VEVENT
END:VCALENDAR