BEGIN:VCALENDAR
VERSION:2.0
PRODID:-//Tukios.com/
BEGIN:VEVENT
UID:b9f7e0bd-ac67-4821-bee2-40d829ddfbb9@www.saundersdwyer.com
DTSTAMP:20260425T001524Z
DTSTART:20260517T153000Z
DTEND:20260517T160000Z
SUMMARY:Visitation
DESCRIPTION:
URL:https://www.saundersdwyer.com/obituaries/eugenia-heys
LOCATION: 50 County Road  Mattapoisett MA 02739
GEO:41.6638228;-70.8094937
END:VEVENT
END:VCALENDAR