BEGIN:VCALENDAR
VERSION:2.0
PRODID:-//Tukios.com/
BEGIN:VEVENT
UID:eff1daff-cd8d-4302-9ee4-8631a72593f2@www.saundersdwyer.com
DTSTAMP:20260420T173322Z
DTSTART:20260423T200000Z
DTEND:20260423T230000Z
SUMMARY:Visitation
DESCRIPTION:
URL:https://www.saundersdwyer.com/obituaries/george-ohara-jr
LOCATION: 495 Park St  New Bedford MA 02740
GEO:41.6428409;-70.9402364
END:VEVENT
END:VCALENDAR