BEGIN:VCALENDAR
VERSION:2.0
PRODID:-//Tukios.com/
BEGIN:VEVENT
UID:3ae5317b-54e1-4f34-be5c-b6a259cd3a94@www.saundersdwyer.com
DTSTAMP:20260420T173129Z
DTSTART:20260424T140000Z
DTEND:20260424T150000Z
SUMMARY:Funeral Service
DESCRIPTION:
URL:https://www.saundersdwyer.com/obituaries/george-ohara-jr
LOCATION:St. Mary’s Church 795 Dartmouth St.  Dartmouth MA 02748
GEO:41.5915261;-70.9436684
END:VEVENT
END:VCALENDAR