BEGIN:VCALENDAR
VERSION:2.0
PRODID:-//Tukios.com/
BEGIN:VEVENT
UID:d20fa324-79f1-4dfd-8863-7a56f3563694@www.saundersdwyer.com
DTSTAMP:20260424T213217Z
DTSTART:20260427T150000Z
DTEND:20260427T153000Z
SUMMARY:Graveside Service
DESCRIPTION:
URL:https://www.saundersdwyer.com/obituaries/maria-camilo
LOCATION: 559 Mount Pleasant Street  New Bedford MA 02745
GEO:41.6683913;-70.9468549
END:VEVENT
END:VCALENDAR