BEGIN:VCALENDAR
VERSION:2.0
PRODID:-//Tukios.com/
BEGIN:VEVENT
UID:6ddb8460-4d26-4036-be03-590a43358d78@www.saundersdwyer.com
DTSTAMP:20260424T213350Z
DTSTART:20260426T180000Z
DTEND:20260426T200000Z
SUMMARY:Visitation
DESCRIPTION:
URL:https://www.saundersdwyer.com/obituaries/maria-camilo
LOCATION: 495 Park St  New Bedford MA 02740
GEO:41.6428409;-70.9402364
END:VEVENT
END:VCALENDAR