BEGIN:VCALENDAR
VERSION:2.0
PRODID:-//Tukios.com/
BEGIN:VEVENT
UID:9d60b23b-c503-476d-92bc-b104b368096f@www.saundersdwyer.com
DTSTAMP:20260419T225803Z
DTSTART:20260420T180000Z
DTEND:20260420T220000Z
SUMMARY:Memorial Gathering
DESCRIPTION:
URL:https://www.saundersdwyer.com/obituaries/warren-ide
LOCATION:Allendale Country Club 1047 Allen Street  Dartmouth MA 02747
GEO:41.6288921;-70.9739982
END:VEVENT
END:VCALENDAR